BEGIN:VCALENDAR
VERSION:2.0
PRODID:icalendar-ruby
CALSCALE:GREGORIAN
METHOD:PUBLISH
BEGIN:VEVENT
DTSTAMP:20260422T224040Z
UID:9-519566@bocminc.com
DTSTART:20261014T214500Z
DTEND:20261014T224500Z
CLASS:PUBLIC
CREATED:20260422T171547
DESCRIPTION:
LAST-MODIFIED:20260422T171547
LOCATION:
SUMMARY:Bible Study
URL;VALUE=URI:https://bocminc.com/events/bible-study/2026-10-14
ATTACH;FILENAME=The Book of Revelation Bible Study.png;FMTTYPE=image/png:ht
 tps://dq5pwpg1q8ru0.cloudfront.net/2026/03/24/17/52/20/0e1d4846-87e2-489d-
 b934-1afeb848af30/The%20Book%20of%20Revelation%20Bible%20Study.png
END:VEVENT
END:VCALENDAR
