BEGIN:VCALENDAR
VERSION:2.0
PRODID:icalendar-ruby
CALSCALE:GREGORIAN
METHOD:PUBLISH
BEGIN:VEVENT
DTSTAMP:20260422T222547Z
UID:15-519672@bocminc.com
DTSTART:20260927T223000Z
DTEND:20260927T233000Z
CLASS:PUBLIC
CREATED:20260422T171547
DESCRIPTION:BOC Virtual Church led by Evangelist Brenda Trent. Dial in at (
 727) 731-9625
LAST-MODIFIED:20260422T171547
LOCATION:Virtual - Dial In
SUMMARY:BOC Virtual Church
URL;VALUE=URI:https://bocminc.com/events/boc-virtual-church/2026-09-27
ATTACH;FILENAME=virtual.png;FMTTYPE=image/png:https://dq5pwpg1q8ru0.cloudfr
 ont.net/2025/03/31/23/20/37/bd9cad3e-f4f6-4d0c-89de-b864f968fb9f/virtual.p
 ng
END:VEVENT
END:VCALENDAR
