BEGIN:VCALENDAR
VERSION:2.0
PRODID:icalendar-ruby
CALSCALE:GREGORIAN
METHOD:PUBLISH
BEGIN:VEVENT
DTSTAMP:20260424T152520Z
UID:40-523820@bocminc.com
DTSTART:20261021T224500Z
DTEND:20261021T234500Z
CLASS:PUBLIC
CREATED:20260424T112432
DESCRIPTION:
LAST-MODIFIED:20260424T112432
LOCATION:
SUMMARY:Prayer
URL;VALUE=URI:https://bocminc.com/events/prayer--40/2026-10-21
END:VEVENT
END:VCALENDAR
