BEGIN:VCALENDAR
VERSION:2.0
PRODID:icalendar-ruby
CALSCALE:GREGORIAN
METHOD:PUBLISH
BEGIN:VEVENT
DTSTAMP:20260424T182608Z
UID:40-524233@bocminc.com
DTSTART:20261104T234500Z
DTEND:20261105T004500Z
CLASS:PUBLIC
CREATED:20260424T141037
DESCRIPTION:
LAST-MODIFIED:20260424T141037
LOCATION:
SUMMARY:Prayer
URL;VALUE=URI:https://bocminc.com/events/prayer--40/2026-11-04
END:VEVENT
END:VCALENDAR
